BEGIN:VCALENDAR
VERSION:2.0
PRODID:SchoolNow
CALSCALE:GREGORIAN
BEGIN:VEVENT
UID:c7c4c076-904f-11ec-8e27-0e244427ce7b
DTSTAMP:20220218T184810Z
SUMMARY:CDD Board Meeting - Oct. 2021 - Cancelled
LOCATION:The Offices of DR Horton - Jacksonville located at 4220 Race Track
  Road\, St. Johns\, Florida 32259
URL;VALUE=URI:https://www.bridgewaternorthcdd.org/calendar/3108177/cdd-boar
 d-meeting-oct-2021
DTSTART:20211026T144500Z
DTEND:20211026T154500Z
END:VEVENT
END:VCALENDAR
