BEGIN:VCALENDAR
VERSION:2.0
PRODID:SchoolNow
CALSCALE:GREGORIAN
BEGIN:VEVENT
UID:efeff2b4-904f-11ec-80f1-0e244427ce7b
DTSTAMP:20220218T003155Z
SUMMARY:CDD Board Meeting - Jan. 2022 - Cancelled
LOCATION:The Offices of DR Horton - Jacksonville located at 4220 Race Track
  Road\, St. Johns\, Florida 32259
URL;VALUE=URI:https://www.bridgewaternorthcdd.org/calendar/3108179/cdd-boar
 d-meeting-jan-2022
DTSTART:20220125T154500Z
DTEND:20220125T164500Z
END:VEVENT
END:VCALENDAR
