BEGIN:VCALENDAR
VERSION:2.0
PRODID:SchoolNow
CALSCALE:GREGORIAN
BEGIN:VEVENT
UID:3449b10c-9050-11ec-81d4-0e244427ce7b
DTSTAMP:20220517T211758Z
SUMMARY:CDD Board Meeting - May 2022
LOCATION:The Offices of DR Horton - Jacksonville located at 4220 Race Track
  Road\, St. Johns\, Florida 32259
URL;VALUE=URI:https://www.bridgewaternorthcdd.org/calendar/3108195/cdd-boar
 d-meeting-may-2022
DTSTART:20220524T144500Z
DTEND:20220524T154500Z
ATTACH;FILENAME=2022-05-24 Bridgewater North CDD - Final Agenda.pdf;FMTTYPE
 =application/pdf:https://campussuite-storage.s3.amazonaws.com/prod/1559082
 /920a4bbc-0d83-11ec-9792-0213f65f650f/2417949/cccc1afc-d626-11ec-98dc-0a91
 0a8962d3/file/2022-05-24 Bridgewater North CDD - Final Agenda.pdf
END:VEVENT
END:VCALENDAR
