BEGIN:VCALENDAR
VERSION:2.0
PRODID:SchoolNow
CALSCALE:GREGORIAN
BEGIN:VEVENT
UID:54cd7062-9050-11ec-ba00-0e244427ce7b
DTSTAMP:20220708T171648Z
SUMMARY:CDD Board Meeting - Jul. 2022 - Cancelled
LOCATION:The Offices of DR Horton - Jacksonville located at 4220 Race Track
  Road\, St. Johns\, Florida 32259
URL;VALUE=URI:https://www.bridgewaternorthcdd.org/calendar/3108196/cdd-boar
 d-meeting-jul-2022
DTSTART:20220726T144500Z
DTEND:20220726T154500Z
END:VEVENT
END:VCALENDAR
