BEGIN:VCALENDAR
VERSION:2.0
PRODID:SchoolNow
CALSCALE:GREGORIAN
BEGIN:VEVENT
UID:737d7b6a-9050-11ec-8a9c-0e244427ce7b
DTSTAMP:20221004T191640Z
SUMMARY:Bridgewater North CDD Board Meeting - Aug. 2022
LOCATION:The Offices of DR Horton - Jacksonville located at 4220 Race Track
  Road\, St. Johns\, Florida 32259
URL;VALUE=URI:https://www.bridgewaternorthcdd.org/calendar/3108229/cdd-boar
 d-meeting-aug-2022
DTSTART:20220823T144500Z
DTEND:20220823T154500Z
ATTACH;FILENAME=2022-08-23 - Bridgewater North CDD - Final Agenda --.pdf;FM
 TTYPE=application/pdf:https://campussuite-storage.s3.amazonaws.com/prod/15
 59082/920a4bbc-0d83-11ec-9792-0213f65f650f/2461766/d19d54f8-1da5-11ed-be59
 -0e5487bc7e73/file/2022-08-23 - Bridgewater North CDD - Final Agenda --.pd
 f
END:VEVENT
END:VCALENDAR
