BEGIN:VCALENDAR
VERSION:2.0
PRODID:SchoolNow
CALSCALE:GREGORIAN
BEGIN:VEVENT
UID:f7f2dc7a-9053-11ec-a68f-0e244427ce7b
DTSTAMP:20220224T230634Z
SUMMARY:CDD Board Meeting - May 2021
LOCATION:The Offices of DR Horton - Jacksonville located at 4220 Race Track
  Road\, St. Johns\, Florida 32259
URL;VALUE=URI:https://www.bridgewaternorthcdd.org/calendar/3108277/cdd-boar
 d-meeting-may-2021
DTSTART:20210526T150000Z
DTEND:20210526T160000Z
ATTACH;FILENAME=2021-05-26 Bridewater North CDD Final Agenda.pdf;FMTTYPE=ap
 plication/pdf:https://campussuite-storage.s3.amazonaws.com/prod/1559082/92
 0a4bbc-0d83-11ec-9792-0213f65f650f/2380034/eaa819fa-95c5-11ec-ba8e-0284605
 bf39b/file/2021-05-26 Bridewater North CDD Final Agenda.pdf
END:VEVENT
END:VCALENDAR
