BEGIN:VCALENDAR
VERSION:2.0
PRODID:SchoolNow
CALSCALE:GREGORIAN
BEGIN:VEVENT
UID:1df1b860-9054-11ec-a2a1-0e244427ce7b
DTSTAMP:20220224T230649Z
SUMMARY:CDD Board Meeting - Jul. 2021
LOCATION:The Offices of DR Horton - Jacksonville located at 4220 Race Track
  Road\, St. Johns\, Florida 32259
URL;VALUE=URI:https://www.bridgewaternorthcdd.org/calendar/3108278/cdd-boar
 d-meeting-jul-2021
DTSTART:20210721T150000Z
DTEND:20210721T160000Z
ATTACH;FILENAME=2021-07-21 Bridgewater North CDD Final Agenda (v2).pdf;FMTT
 YPE=application/pdf:https://campussuite-storage.s3.amazonaws.com/prod/1559
 082/920a4bbc-0d83-11ec-9792-0213f65f650f/2380033/eaa8175c-95c5-11ec-b0b9-0
 284605bf39b/file/2021-07-21 Bridgewater North CDD Final Agenda (v2).pdf
END:VEVENT
END:VCALENDAR
