BEGIN:VCALENDAR
VERSION:2.0
PRODID:SchoolNow
CALSCALE:GREGORIAN
BEGIN:VEVENT
UID:494219ec-9054-11ec-a2cd-0e244427ce7b
DTSTAMP:20220224T230704Z
SUMMARY:CDD Board Meeting - Aug. 2021
LOCATION:The Offices of DR Horton - Jacksonville located at 4220 Race Track
  Road\, St. Johns\, Florida 32259
URL;VALUE=URI:https://www.bridgewaternorthcdd.org/calendar/3108279/cdd-boar
 d-meeting-aug-2021
DTSTART:20210824T144500Z
DTEND:20210824T154500Z
ATTACH;FILENAME=2021-08-24 Bridgewater North CDD Final Agenda.pdf;FMTTYPE=a
 pplication/pdf:https://campussuite-storage.s3.amazonaws.com/prod/1559082/9
 20a4bbc-0d83-11ec-9792-0213f65f650f/2380032/eaa81158-95c5-11ec-82f1-028460
 5bf39b/file/2021-08-24 Bridgewater North CDD Final Agenda.pdf
END:VEVENT
END:VCALENDAR
