BEGIN:VCALENDAR
VERSION:2.0
PRODID:SchoolNow
CALSCALE:GREGORIAN
BEGIN:VEVENT
UID:7832466e-9054-11ec-aeeb-0a1c7b83d777
DTSTAMP:20220224T230740Z
SUMMARY:CDD Board Meeting - Oct. 5\, 2021
LOCATION:The Offices of DR Horton - Jacksonville located at 4220 Race Track
  Road\, St. Johns\, Florida 32259
URL;VALUE=URI:https://www.bridgewaternorthcdd.org/calendar/3108280/cdd-boar
 d-meeting-oct-5-2021
DTSTART:20211005T190000Z
DTEND:20211005T200000Z
ATTACH;FILENAME=2021-10-05 Bridgewater North CDD Final Agenda.pdf;FMTTYPE=a
 pplication/pdf:https://campussuite-storage.s3.amazonaws.com/prod/1559082/9
 20a4bbc-0d83-11ec-9792-0213f65f650f/2380036/0fb941e2-95c6-11ec-a61f-028460
 5bf39b/file/2021-10-05 Bridgewater North CDD Final Agenda.pdf
END:VEVENT
END:VCALENDAR
