BEGIN:VCALENDAR
VERSION:2.0
PRODID:SchoolNow
CALSCALE:GREGORIAN
BEGIN:VEVENT
UID:a71143ae-9054-11ec-8c29-0a1c7b83d777
DTSTAMP:20220224T230724Z
SUMMARY:CDD Board Audit Meeting - Oct. 5\, 2021
LOCATION:The Offices of DR Horton - Jacksonville located at 4220 Race Track
  Road\, St. Johns\, Florida 32259
URL;VALUE=URI:https://www.bridgewaternorthcdd.org/calendar/3108281/cdd-boar
 d-audit-meeting-oct-5-2021
DTSTART:20211005T190000Z
DTEND:20211005T200000Z
ATTACH;FILENAME=2021-10-05 Bridgewater North CDD – Audit Committee Meetin
 g Agenda.pdf;FMTTYPE=application/pdf:https://campussuite-storage.s3.amazon
 aws.com/prod/1559082/920a4bbc-0d83-11ec-9792-0213f65f650f/2380035/0fb93a76
 -95c6-11ec-bbb4-0284605bf39b/file/2021-10-05 Bridgewater North CDD – Aud
 it Committee Meeting Agenda.pdf
END:VEVENT
END:VCALENDAR
