BEGIN:VCALENDAR
VERSION:2.0
PRODID:SchoolNow
CALSCALE:GREGORIAN
BEGIN:VEVENT
UID:f3a2150c-9a38-11ec-ba7a-0258c47ba085
DTSTAMP:20220324T141928Z
SUMMARY:CDD Special Board Meeting - Mar. 2022
LOCATION:The Offices of DR Horton - Jacksonville located at 4220 Race Track
  Road\, St. Johns\, Florida 32259
URL;VALUE=URI:https://www.bridgewaternorthcdd.org/calendar/3121933/cdd-spec
 ial-board-meeting-mar-2022
DTSTART:20220308T160000Z
DTEND:20220308T170000Z
ATTACH;FILENAME=2022-03-08 Bridgewater North CDD - Final Agenda - Revised.p
 df;FMTTYPE=application/pdf:https://campussuite-storage.s3.amazonaws.com/pr
 od/1559082/920a4bbc-0d83-11ec-9792-0213f65f650f/2392754/438731e2-ab7d-11ec
 -97b9-0a8dafa82247/file/2022-03-08 Bridgewater North CDD - Final Agenda - 
 Revised.pdf
END:VEVENT
END:VCALENDAR
