BEGIN:VCALENDAR
VERSION:2.0
PRODID:SchoolNow
CALSCALE:GREGORIAN
BEGIN:VEVENT
UID:6eff9c14-dd24-11ec-9c34-0a26b8331069
DTSTAMP:20220526T184829Z
SUMMARY:Public Hearing
URL;VALUE=URI:https://www.bridgewaternorthcdd.org/calendar/3207045/public-h
 earing
DTSTART:20220823T140000Z
DTEND:20220823T150000Z
END:VEVENT
END:VCALENDAR
