BEGIN:VCALENDAR
VERSION:2.0
PRODID:SchoolNow
CALSCALE:GREGORIAN
BEGIN:VEVENT
UID:abf36202-2871-11ed-9634-0a6246f0f0b7
DTSTAMP:20221021T162834Z
SUMMARY:Bridgewater North CDD Board Meeting - Nov. 2022 - Cancelled
LOCATION:The Offices of DR Horton - Jacksonville located at 4220 Race Track
  Road\, St. Johns\, Florida 32259
URL;VALUE=URI:https://www.bridgewaternorthcdd.org/calendar/3317687/cdd-boar
 d-meeting-nov-2022
DTSTART:20221102T143000Z
DTEND:20221102T153000Z
END:VEVENT
END:VCALENDAR
