BEGIN:VCALENDAR
VERSION:2.0
PRODID:SchoolNow
CALSCALE:GREGORIAN
BEGIN:VEVENT
UID:bb6f3076-2871-11ed-81a9-0a6246f0f0b7
DTSTAMP:20230103T215220Z
SUMMARY:Bridgewater North CDD Board Meeting - Jan. 2023
LOCATION:The Offices of DR Horton - Jacksonville located at 4220 Race Track
  Road\, St. Johns\, Florida 32259
URL;VALUE=URI:https://www.bridgewaternorthcdd.org/calendar/3317688/cdd-boar
 d-meeting-jan-2023
DTSTART:20230110T153000Z
DTEND:20230110T163000Z
ATTACH;FILENAME=2023-01-10 Bridgewater North CDD - Final Agenda.pdf;FMTTYPE
 =application/pdf:https://campussuite-storage.s3.amazonaws.com/prod/1559082
 /920a4bbc-0d83-11ec-9792-0213f65f650f/2532819/def406d2-8bb0-11ed-87ed-0aa3
 75bd7fdb/file/2023-01-10 Bridgewater North CDD - Final Agenda.pdf
END:VEVENT
END:VCALENDAR
