BEGIN:VCALENDAR
VERSION:2.0
PRODID:SchoolNow
CALSCALE:GREGORIAN
BEGIN:VEVENT
UID:ca241b4a-2871-11ed-8fd1-0a6246f0f0b7
DTSTAMP:20230329T190233Z
SUMMARY:Bridgewater North CDD Board Meeting - Apr. 2023
LOCATION:The Offices of DR Horton - Jacksonville located at 4220 Race Track
  Road\, St. Johns\, Florida 32259
URL;VALUE=URI:https://www.bridgewaternorthcdd.org/calendar/3317689/cdd-boar
 d-meeting-apr-2023
DTSTART:20230405T143000Z
DTEND:20230405T153000Z
ATTACH;FILENAME=2023-04-05 Bridgewater North CDD - Final Agenda.pdf;FMTTYPE
 =application/pdf:https://campussuite-storage.s3.amazonaws.com/prod/1559082
 /920a4bbc-0d83-11ec-9792-0213f65f650f/2574237/401f8242-ce64-11ed-8052-0a16
 9d726303/file/2023-04-05 Bridgewater North CDD - Final Agenda.pdf
END:VEVENT
END:VCALENDAR
