BEGIN:VCALENDAR
VERSION:2.0
PRODID:SchoolNow
CALSCALE:GREGORIAN
BEGIN:VEVENT
UID:dc081b0e-2871-11ed-abae-0a6246f0f0b7
DTSTAMP:20230405T192326Z
SUMMARY:Bridgewater North CDD Board Meeting - Jul. 2023 - Cancelled
LOCATION:The Offices of DR Horton - Jacksonville located at 4220 Race Track
  Road\, St. Johns\, Florida 32259
URL;VALUE=URI:https://www.bridgewaternorthcdd.org/calendar/3317690/cdd-boar
 d-meeting-jul-2023
DTSTART:20230705T143000Z
DTEND:20230705T153000Z
END:VEVENT
END:VCALENDAR
