BEGIN:VCALENDAR
VERSION:2.0
PRODID:SchoolNow
CALSCALE:GREGORIAN
BEGIN:VEVENT
UID:50465aa0-d3e7-11ed-83d8-0e23aa059d81
DTSTAMP:20230621T193512Z
SUMMARY:Bridgewater North CDD Special  Board Meeting - Jun. 2023
LOCATION:The Offices of DR Horton - Jacksonville located at 4220 Race Track
  Road\, St. Johns\, Florida 32259
URL;VALUE=URI:https://www.bridgewaternorthcdd.org/calendar/3989424/bridgewa
 ter-north-cdd-special-board-meeting-jun-2023
DTSTART:20230627T143000Z
DTEND:20230627T153000Z
ATTACH;FILENAME=2023-06-27 - Bridgewater North CDD - Final Agenda.pdf;FMTTY
 PE=application/pdf:https://campussuite-storage.s3.amazonaws.com/prod/15590
 82/920a4bbc-0d83-11ec-9792-0213f65f650f/2619597/bac8efa4-106a-11ee-abff-0e
 2183db68bb/file/2023-06-27 - Bridgewater North CDD - Final Agenda.pdf
END:VEVENT
END:VCALENDAR
