BEGIN:VCALENDAR
VERSION:2.0
PRODID:SchoolNow
CALSCALE:GREGORIAN
BEGIN:VEVENT
UID:c095b986-1c1c-11ee-86c1-0e7482235fa7
DTSTAMP:20231025T143526Z
SUMMARY:Bridgewater North CDD Board Meeting - Oct. 2023
LOCATION:St. Johns County Airport Authority\, 4730 Casa Cola Way\, St. Augu
 stine FL 32095
URL;VALUE=URI:https://www.bridgewaternorthcdd.org/calendar/4474474/bridgewa
 ter-north-cdd-board-meeting-oct-2023
DTSTART:20231025T143000Z
DTEND:20231025T153000Z
ATTACH;FILENAME=2023-10-25 Bridgewater North CDD - Final Agenda - Copy.pdf;
 FMTTYPE=application/pdf:https://campussuite-storage.s3.amazonaws.com/prod/
 1559082/920a4bbc-0d83-11ec-9792-0213f65f650f/2682736/2a2a3bfa-6dd6-11ee-95
 5b-0afb39b77ecf/file/2023-10-25 Bridgewater North CDD - Final Agenda - Cop
 y.pdf
ATTACH;FILENAME=2023-10-25 Bridgewater North CDD - Final Full Agenda.pdf;FM
 TTYPE=application/pdf:https://campussuite-storage.s3.amazonaws.com/prod/15
 59082/920a4bbc-0d83-11ec-9792-0213f65f650f/2683508/3b2ec39c-6ea5-11ee-8bc9
 -0a58a9feac02/file/2023-10-25 Bridgewater North CDD - Final Full Agenda.pd
 f
END:VEVENT
END:VCALENDAR
