BEGIN:VCALENDAR
VERSION:2.0
PRODID:SchoolNow
CALSCALE:GREGORIAN
BEGIN:VEVENT
UID:d2285302-1c1c-11ee-b857-0e7482235fa7
DTSTAMP:20240221T173702Z
SUMMARY:Bridgewater North CDD Board Meeting - Feb. 2024
LOCATION:St. Johns County Airport Authority\, 4730 Casa Cola Way\, St. Augu
 stine FL 32095
URL;VALUE=URI:https://www.bridgewaternorthcdd.org/calendar/4474475/bridgewa
 ter-north-cdd-board-meeting-feb-2024
DTSTART:20240228T153000Z
DTEND:20240228T163000Z
ATTACH;FILENAME=2024-02-28 Bridgewater North CDD - Final Agenda.pdf;FMTTYPE
 =application/pdf:https://campussuite-storage.s3.amazonaws.com/prod/1559082
 /920a4bbc-0d83-11ec-9792-0213f65f650f/2745795/cf6f3108-d0df-11ee-a693-0a58
 a9feac02/file/2024-02-28 Bridgewater North CDD - Final Agenda.pdf
END:VEVENT
END:VCALENDAR
