BEGIN:VCALENDAR
VERSION:2.0
PRODID:SchoolNow
CALSCALE:GREGORIAN
BEGIN:VEVENT
UID:de4d24be-1c1c-11ee-896a-0e7482235fa7
DTSTAMP:20240515T201908Z
SUMMARY:Bridgewater North CDD Board Meeting - May 2024
LOCATION:St. Johns County Airport Authority\, 4730 Casa Cola Way\, St. Augu
 stine FL 32095
URL;VALUE=URI:https://www.bridgewaternorthcdd.org/calendar/4474476/bridgewa
 ter-north-cdd-board-meeting-may-2024
DTSTART:20240522T143000Z
DTEND:20240522T153000Z
ATTACH;FILENAME=2024-05-22 - Bridgewater North CDD - Final Agenda-2.pdf;FMT
 TYPE=application/pdf:https://campussuite-storage.s3.amazonaws.com/prod/155
 9082/920a4bbc-0d83-11ec-9792-0213f65f650f/2788089/5eecdd08-12f8-11ef-9f82-
 0e736ebdcd49/file/2024-05-22 - Bridgewater North CDD - Final Agenda-2.pdf
END:VEVENT
END:VCALENDAR
