BEGIN:VCALENDAR
VERSION:2.0
PRODID:SchoolNow
CALSCALE:GREGORIAN
BEGIN:VEVENT
UID:e8161640-1c1c-11ee-a173-0e7482235fa7
DTSTAMP:20240822T115855Z
SUMMARY:Bridgewater North CDD Board Meeting - Aug. 2024
LOCATION:St. Johns County Airport Authority\, 4730 Casa Cola Way\, St. Augu
 stine FL 32095
URL;VALUE=URI:https://www.bridgewaternorthcdd.org/calendar/4474477/bridgewa
 ter-north-cdd-board-meeting-may-2024-clone
DTSTART:20240828T143000Z
DTEND:20240828T153000Z
ATTACH;FILENAME=2024-08-28 - Bridgewater North CDD - FINAL AGENDA (1).pdf;F
 MTTYPE=application/pdf:https://campussuite-storage.s3.amazonaws.com/prod/1
 559082/920a4bbc-0d83-11ec-9792-0213f65f650f/2835292/de57445c-607d-11ef-847
 f-0a58a9feac02/file/2024-08-28 - Bridgewater North CDD - FINAL AGENDA (1).
 pdf
END:VEVENT
END:VCALENDAR
