BEGIN:VCALENDAR
VERSION:2.0
PRODID:SchoolNow
CALSCALE:GREGORIAN
BEGIN:VEVENT
UID:225d7cf0-662a-11ef-a801-0a58a9feac02
DTSTAMP:20241016T182552Z
SUMMARY:Bridgewater North CDD Board Meeting - Oct. 2024 - Cancelled
LOCATION:St. Johns County Airport Authority\, 4730 Casa Cola Way\, St. Augu
 stine FL 32095
URL;VALUE=URI:https://www.bridgewaternorthcdd.org/calendar/6481567/bridgewa
 ter-north-cdd-board-meeting-oct-2024
DTSTART:20241023T143000Z
DTEND:20241023T153000Z
END:VEVENT
END:VCALENDAR
