BEGIN:VCALENDAR
VERSION:2.0
PRODID:SchoolNow
CALSCALE:GREGORIAN
BEGIN:VEVENT
UID:2f7bc478-662a-11ef-970d-0a58a9feac02
DTSTAMP:20250219T210814Z
SUMMARY:Bridgewater North CDD Board Meeting - Feb. 2025
LOCATION:St. Johns County Airport Authority\, 4730 Casa Cola Way\, St. Augu
 stine FL 32095
URL;VALUE=URI:https://www.bridgewaternorthcdd.org/calendar/6481637/bridgewa
 ter-north-cdd-board-meeting-feb-2025
DTSTART:20250226T153000Z
DTEND:20250226T163000Z
ATTACH;FILENAME=2025-02-26 - Bridgewater North CDD - FINAL AGENDA.pdf;FMTTY
 PE=application/pdf:https://campussuite-storage.s3.amazonaws.com/prod/15590
 82/920a4bbc-0d83-11ec-9792-0213f65f650f/2917413/9ce8fcb0-ef05-11ef-8f5d-0a
 58a9feac02/file/2025-02-26 - Bridgewater North CDD - FINAL AGENDA.pdf
END:VEVENT
END:VCALENDAR
