BEGIN:VCALENDAR
VERSION:2.0
PRODID:SchoolNow
CALSCALE:GREGORIAN
BEGIN:VEVENT
UID:a27e4624-6edd-11ef-a5a4-0a58a9feac02
DTSTAMP:20241105T171104Z
SUMMARY:Landowner Election - Nov. 2024
LOCATION:Rizzetta & Company\, 2806 N. 5th Street\, Suite 403\, St. Augustin
 e\, FL 32084
URL;VALUE=URI:https://www.bridgewaternorthcdd.org/calendar/6562197/landowne
 r-election-nov-2024
DTSTART:20241105T153000Z
DTEND:20241105T163000Z
ATTACH;FILENAME=2024-02-28 Bridgewater North CDD - Landowner Election Instr
 uctions.pdf;FMTTYPE=application/pdf:https://campussuite-storage.s3.amazona
 ws.com/prod/1559082/920a4bbc-0d83-11ec-9792-0213f65f650f/2844070/886a156a-
 6edd-11ef-a7e6-02f6f1abcd09/file/2024-02-28 Bridgewater North CDD - Landow
 ner Election Instructions.pdf
ATTACH;FILENAME=2024-11-05 Bridgewater North CDD - Landowners Meeting Agend
 a.pdf;FMTTYPE=application/pdf:https://campussuite-storage.s3.amazonaws.com
 /prod/1559082/920a4bbc-0d83-11ec-9792-0213f65f650f/2875196/ecaf728a-9b98-1
 1ef-b5ce-0a58a9feac02/file/2024-11-05 Bridgewater North CDD - Landowners M
 eeting Agenda.pdf
END:VEVENT
END:VCALENDAR
